BEGIN:VCALENDAR
PRODID:-//SINGPromos.com//NONSGML v1.0//EN
VERSION:2.0
CALSCALE:GREGORIAN
METHOD:PUBLISH
X-WR-CALNAME:SINGPromos.com
X-ORIGINAL-URL:https://singpromos.com
X-WR-CALDESC:Events for SINGPromos.com
BEGIN:VEVENT
DTSTART:20200317T000000
DTEND:20200327T235900
DTSTAMP:20260419T213917
CREATED:20200317T144454
LAST-MODIFIED:20200324T191107
UID:236711@https://singpromos.com
SUMMARY:KFC: $3.95 for 1 Zinger and 3 pieces of Hot & Crispy Tenders deal from 17 - 27 March 2020
DESCRIPTION:Did you know there's a way to keep your wallet full and your stomach fuller? Here's how.. For more information, visit [ https://singpromos.com/dining-restaurants-food/kfc-3-95-for-1-zinger-and-3-pieces-of-hot-crispy-tenders-deal-from-17-march-2020-236711/ ]. 
LOCATION:
URL:https://singpromos.com/dining-restaurants-food/kfc-3-95-for-1-zinger-and-3-pieces-of-hot-crispy-tenders-deal-from-17-march-2020-236711/
END:VEVENT
END:VCALENDAR