BEGIN:VCALENDAR
PRODID:-//SINGPromos.com//NONSGML v1.0//EN
VERSION:2.0
CALSCALE:GREGORIAN
METHOD:PUBLISH
X-WR-CALNAME:SINGPromos.com
X-ORIGINAL-URL:https://singpromos.com
X-WR-CALDESC:Events for SINGPromos.com
BEGIN:VEVENT
DTSTART:20200324T000000
DTEND:20200325T235900
DTSTAMP:20260422T082230
CREATED:20200323T193350
LAST-MODIFIED:20200325T204526
UID:236893@https://singpromos.com
SUMMARY:Delifrance's 1 for 1 classic sandwiches deals returns from 24 - 25 March 2020
DESCRIPTION:Enjoy 1 for 1 on classic sandwiches from 12pm to 8pm from 24th - 27th March!. For more information, visit [ https://singpromos.com/dining-restaurants-food/delifrances-1-for-1-classic-sandwiches-deals-returns-from-24-27-march-2020-236893/ ]. 
LOCATION:
URL:https://singpromos.com/dining-restaurants-food/delifrances-1-for-1-classic-sandwiches-deals-returns-from-24-27-march-2020-236893/
END:VEVENT
END:VCALENDAR