BEGIN:VCALENDAR
PRODID:-//SINGPromos.com//NONSGML v1.0//EN
VERSION:2.0
CALSCALE:GREGORIAN
METHOD:PUBLISH
X-WR-CALNAME:SINGPromos.com
X-ORIGINAL-URL:https://singpromos.com
X-WR-CALDESC:Events for SINGPromos.com
BEGIN:VEVENT
DTSTART:20200401T000000
DTEND:20200430T235900
DTSTAMP:20260422T082314
CREATED:20200401T031334
LAST-MODIFIED:20200401T031334
UID:236999@https://singpromos.com
SUMMARY:FlowerAdvisor: Save 10% off storewide with this coupon code till 30 April 2020
DESCRIPTION:Get 10% OFF at FlowerAdvisor valid for a limited time only with the below coupon code.. For more information, visit [ https://singpromos.com/gifts-presents-hampers/floweradvisor-save-10-off-storewide-with-this-coupon-code-till-30-april-2020-236999/ ]. 
LOCATION:
URL:https://singpromos.com/gifts-presents-hampers/floweradvisor-save-10-off-storewide-with-this-coupon-code-till-30-april-2020-236999/
END:VEVENT
END:VCALENDAR