BEGIN:VCALENDAR
PRODID:-//SINGPromos.com//NONSGML v1.0//EN
VERSION:2.0
CALSCALE:GREGORIAN
METHOD:PUBLISH
X-WR-CALNAME:SINGPromos.com
X-ORIGINAL-URL:https://singpromos.com
X-WR-CALDESC:Events for SINGPromos.com
BEGIN:VEVENT
DTSTART:20200415T000000
DTEND:20200422T235900
DTSTAMP:20260422T082107
CREATED:20200415T111455
LAST-MODIFIED:20200424T115747
UID:237181@https://singpromos.com
SUMMARY:Long John Silver's is offering 1-for-1 takeaway deals every Wednesday (From 15 April 2020)
DESCRIPTION:Enjoy 1-for-1 takeaway deals every Wednesday at Long John Silver's. For more information, visit [ https://singpromos.com/dining-restaurants-food/long-john-silvers-is-offering-1-for-1-takeaway-deals-every-wednesday-from-15-april-2020-237181/ ]. 
LOCATION:
URL:https://singpromos.com/dining-restaurants-food/long-john-silvers-is-offering-1-for-1-takeaway-deals-every-wednesday-from-15-april-2020-237181/
END:VEVENT
END:VCALENDAR