BEGIN:VCALENDAR
PRODID:-//SINGPromos.com//NONSGML v1.0//EN
VERSION:2.0
CALSCALE:GREGORIAN
METHOD:PUBLISH
X-WR-CALNAME:SINGPromos.com
X-ORIGINAL-URL:https://singpromos.com
X-WR-CALDESC:Events for SINGPromos.com
BEGIN:VEVENT
DTSTART:20200417T000000
DTEND:20200428T235900
DTSTAMP:20260422T082111
CREATED:20200417T141410
LAST-MODIFIED:20200417T142604
UID:237209@https://singpromos.com
SUMMARY:KFC releases NEW and refreshed set of coupons offering 50% and more savings valid till 28 April 2020
DESCRIPTION:Coupons, coupons for everybody!. For more information, visit [ https://singpromos.com/dining-restaurants-food/kfc-releases-new-and-refreshed-set-of-coupons-offering-50-and-more-savings-valid-till-28-april-2020-237209/ ]. 
LOCATION:
URL:https://singpromos.com/dining-restaurants-food/kfc-releases-new-and-refreshed-set-of-coupons-offering-50-and-more-savings-valid-till-28-april-2020-237209/
END:VEVENT
END:VCALENDAR