BEGIN:VCALENDAR
PRODID:-//SINGPromos.com//NONSGML v1.0//EN
VERSION:2.0
CALSCALE:GREGORIAN
METHOD:PUBLISH
X-WR-CALNAME:SINGPromos.com
X-ORIGINAL-URL:https://singpromos.com
X-WR-CALDESC:Events for SINGPromos.com
BEGIN:VEVENT
DTSTART:20200418T000000
DTEND:20200419T235900
DTSTAMP:20260422T082127
CREATED:20200418T062730
LAST-MODIFIED:20200418T003554
UID:237222@https://singpromos.com
SUMMARY:Qoo10: Grab free $8 and $20 cart coupons till 19 April 2020
DESCRIPTION:Qoo10 is running a New Year promotion featuring free cart coupons worth $8 & $20.. For more information, visit [ https://singpromos.com/department-stores/qoo10-grab-free-8-and-20-cart-coupons-till-19-april-2020-237222/ ]. 
LOCATION:
URL:https://singpromos.com/department-stores/qoo10-grab-free-8-and-20-cart-coupons-till-19-april-2020-237222/
END:VEVENT
END:VCALENDAR