BEGIN:VCALENDAR
PRODID:-//SINGPromos.com//NONSGML v1.0//EN
VERSION:2.0
CALSCALE:GREGORIAN
METHOD:PUBLISH
X-WR-CALNAME:SINGPromos.com
X-ORIGINAL-URL:https://singpromos.com
X-WR-CALDESC:Events for SINGPromos.com
BEGIN:VEVENT
DTSTART:20200420T000000
DTEND:20200421T235900
DTSTAMP:20260422T082133
CREATED:20200420T062947
LAST-MODIFIED:20200420T003107
UID:237229@https://singpromos.com
SUMMARY:Qoo10: Grab free $8 cart coupons (usable with min spend $60) valid till 21 April 2020
DESCRIPTION:Qoo10 is running a promotion featuring free cart coupons worth $8.. For more information, visit [ https://singpromos.com/department-stores/qoo10-grab-free-8-cart-coupons-usable-with-min-spend-60-valid-till-21-april-2020-237229/ ]. 
LOCATION:
URL:https://singpromos.com/department-stores/qoo10-grab-free-8-cart-coupons-usable-with-min-spend-60-valid-till-21-april-2020-237229/
END:VEVENT
END:VCALENDAR