BEGIN:VCALENDAR
PRODID:-//SINGPromos.com//NONSGML v1.0//EN
VERSION:2.0
CALSCALE:GREGORIAN
METHOD:PUBLISH
X-WR-CALNAME:SINGPromos.com
X-ORIGINAL-URL:https://singpromos.com
X-WR-CALDESC:Events for SINGPromos.com
BEGIN:VEVENT
DTSTART:20200512T000000
DTEND:20200513T235900
DTSTAMP:20260422T082113
CREATED:20200512T183800
LAST-MODIFIED:20200512T184043
UID:237452@https://singpromos.com
SUMMARY:Abercrombie & Fitch is throwing a two-day online sale featuring 50-70% OFF sale items till 13 May 2020
DESCRIPTION:TWO DAYS ONLY. 50-70% off all sale*. For more information, visit [ https://singpromos.com/fashion-accessories/abercrombie-fitch-is-throwing-a-two-day-online-sale-featuring-50-70-off-sale-items-till-13-may-2020-237452/ ]. 
LOCATION:
URL:https://singpromos.com/fashion-accessories/abercrombie-fitch-is-throwing-a-two-day-online-sale-featuring-50-70-off-sale-items-till-13-may-2020-237452/
END:VEVENT
END:VCALENDAR