BEGIN:VCALENDAR
PRODID:-//SINGPromos.com//NONSGML v1.0//EN
VERSION:2.0
CALSCALE:GREGORIAN
METHOD:PUBLISH
X-WR-CALNAME:SINGPromos.com
X-ORIGINAL-URL:https://singpromos.com
X-WR-CALDESC:Events for SINGPromos.com
BEGIN:VEVENT
DTSTART:20200515T000000
DTEND:20200524T235900
DTSTAMP:20260422T082109
CREATED:20200515T144146
LAST-MODIFIED:20200525T142847
UID:237486@https://singpromos.com
SUMMARY:Delifrance: $5.30 (usual $7.20) Classic Sandwich Croissant with Egg /Chicken /Tuna or Seafood deal (From 15 May 2020)
DESCRIPTION:Delifrance Classic Sandwich CROISSANT with Egg /Chicken /Tuna or Seafood at $5.30 (usual $7.20). For more information, visit [ https://singpromos.com/dining-restaurants-food/delifrance-5-30-usual-7-20-classic-sandwich-croissant-with-egg-chicken-tuna-or-seafood-deal-from-15-may-2020-237486/ ]. 
LOCATION:
URL:https://singpromos.com/dining-restaurants-food/delifrance-5-30-usual-7-20-classic-sandwich-croissant-with-egg-chicken-tuna-or-seafood-deal-from-15-may-2020-237486/
END:VEVENT
END:VCALENDAR