BEGIN:VCALENDAR
PRODID:-//SINGPromos.com//NONSGML v1.0//EN
VERSION:2.0
CALSCALE:GREGORIAN
METHOD:PUBLISH
X-WR-CALNAME:SINGPromos.com
X-ORIGINAL-URL:https://singpromos.com
X-WR-CALDESC:Events for SINGPromos.com
BEGIN:VEVENT
DTSTART:20200612T000000
DTEND:20200612T235900
DTSTAMP:20260422T193906
CREATED:20200612T075244
LAST-MODIFIED:20200612T075244
UID:237830@https://singpromos.com
SUMMARY:Qoo10: Grab free $50 cart coupons (usable with min spend $500) valid till 12 June 2020
DESCRIPTION:Qoo10 is running a promotion featuring free cart coupons worth $500.. For more information, visit [ https://singpromos.com/department-stores/qoo10-grab-free-50-cart-coupons-usable-with-min-spend-500-valid-till-12-june-2020-237830/ ]. 
LOCATION:
URL:https://singpromos.com/department-stores/qoo10-grab-free-50-cart-coupons-usable-with-min-spend-500-valid-till-12-june-2020-237830/
END:VEVENT
END:VCALENDAR