BEGIN:VCALENDAR
PRODID:-//SINGPromos.com//NONSGML v1.0//EN
VERSION:2.0
CALSCALE:GREGORIAN
METHOD:PUBLISH
X-WR-CALNAME:SINGPromos.com
X-ORIGINAL-URL:https://singpromos.com
X-WR-CALDESC:Events for SINGPromos.com
BEGIN:VEVENT
DTSTART:20200907T000000
DTEND:20200916T235900
DTSTAMP:20260422T082323
CREATED:20200907T115445
LAST-MODIFIED:20200907T115445
UID:237854@https://singpromos.com
SUMMARY:Norton Antivirus Plus subscription is going at 11% off till 16 September 2020
DESCRIPTION:Powerful protection for your device and the personal information it stores. For more information, visit [ https://singpromos.com/computers-pc/norton-antivirus-plus-subscription-is-going-at-11-off-till-16-september-2020-237854/ ]. 
LOCATION:
URL:https://singpromos.com/computers-pc/norton-antivirus-plus-subscription-is-going-at-11-off-till-16-september-2020-237854/
END:VEVENT
END:VCALENDAR