BEGIN:VCALENDAR
PRODID:-//SINGPromos.com//NONSGML v1.0//EN
VERSION:2.0
CALSCALE:GREGORIAN
METHOD:PUBLISH
X-WR-CALNAME:SINGPromos.com
X-ORIGINAL-URL:https://singpromos.com
X-WR-CALDESC:Events for SINGPromos.com
BEGIN:VEVENT
DTSTART:20200701T000000
DTEND:20200802T235900
DTSTAMP:20260422T082236
CREATED:20200701T144452
LAST-MODIFIED:20200701T154853
UID:238102@https://singpromos.com
SUMMARY:Burger King releases new coupons including 1-for-1 Milo, Onion Rings, Double Turkey Bacon & more valid till 2 Aug 2020
DESCRIPTION:You don't need to be 1 metre apart from these amazing APP Exclusive Coupons.. For more information, visit [ https://singpromos.com/dining-restaurants-food/burger-king-releases-new-coupons-including-1-for-1-milo-onion-rings-double-turkey-bacon-more-valid-till-31-aug-2020-238102/ ]. 
LOCATION:
URL:https://singpromos.com/dining-restaurants-food/burger-king-releases-new-coupons-including-1-for-1-milo-onion-rings-double-turkey-bacon-more-valid-till-31-aug-2020-238102/
END:VEVENT
END:VCALENDAR