BEGIN:VCALENDAR
PRODID:-//SINGPromos.com//NONSGML v1.0//EN
VERSION:2.0
CALSCALE:GREGORIAN
METHOD:PUBLISH
X-WR-CALNAME:SINGPromos.com
X-ORIGINAL-URL:https://singpromos.com
X-WR-CALDESC:Events for SINGPromos.com
BEGIN:VEVENT
DTSTART:20200703T000000
DTEND:20200712T235900
DTSTAMP:20260420T052614
CREATED:20200703T104638
LAST-MODIFIED:20200703T104652
UID:238180@https://singpromos.com
SUMMARY:Adidas S'pore online store is offering 33% off RRP for selected full priced and outlet items till 12 July 2020
DESCRIPTION:Discount applied at cart.. For more information, visit [ https://singpromos.com/department-stores/adidas-spore-online-store-is-offering-33-off-rrp-for-selected-full-priced-and-outlet-items-till-12-july-2020-238180/ ]. 
LOCATION:
URL:https://singpromos.com/department-stores/adidas-spore-online-store-is-offering-33-off-rrp-for-selected-full-priced-and-outlet-items-till-12-july-2020-238180/
END:VEVENT
END:VCALENDAR