BEGIN:VCALENDAR
PRODID:-//SINGPromos.com//NONSGML v1.0//EN
VERSION:2.0
CALSCALE:GREGORIAN
METHOD:PUBLISH
X-WR-CALNAME:SINGPromos.com
X-ORIGINAL-URL:https://singpromos.com
X-WR-CALDESC:Events for SINGPromos.com
BEGIN:VEVENT
DTSTART:20200704T000000
DTEND:20200705T235900
DTSTAMP:20260420T034321
CREATED:20200704T014420
LAST-MODIFIED:20200704T014420
UID:238207@https://singpromos.com
SUMMARY:Qoo10: Grab free $6 and $15 cart coupons till 5 July 2020
DESCRIPTION:Qoo10 is running a promotion featuring free cart coupons worth $6 & $15.. For more information, visit [ https://singpromos.com/department-stores/qoo10-grab-free-6-and-15-cart-coupons-till-5-july-2020-238207/ ]. 
LOCATION:
URL:https://singpromos.com/department-stores/qoo10-grab-free-6-and-15-cart-coupons-till-5-july-2020-238207/
END:VEVENT
END:VCALENDAR