BEGIN:VCALENDAR
PRODID:-//SINGPromos.com//NONSGML v1.0//EN
VERSION:2.0
CALSCALE:GREGORIAN
METHOD:PUBLISH
X-WR-CALNAME:SINGPromos.com
X-ORIGINAL-URL:https://singpromos.com
X-WR-CALDESC:Events for SINGPromos.com
BEGIN:VEVENT
DTSTART:20200711T000000
DTEND:20200711T235900
DTSTAMP:20260422T081540
CREATED:20200709T134152
LAST-MODIFIED:20200709T144439
UID:238297@https://singpromos.com
SUMMARY:Toast Box Singapore traditional toast set at just $1 for StarHub customers on 11 July 2020
DESCRIPTION:Here's a toast to the weekends that #NeverStop getting better!. For more information, visit [ https://singpromos.com/dining-restaurants-food/toast-box-singapore-traditional-toast-set-at-just-1-for-starhub-customers-on-11-july-2020-238297/ ]. 
LOCATION:
URL:https://singpromos.com/dining-restaurants-food/toast-box-singapore-traditional-toast-set-at-just-1-for-starhub-customers-on-11-july-2020-238297/
END:VEVENT
END:VCALENDAR