BEGIN:VCALENDAR
PRODID:-//SINGPromos.com//NONSGML v1.0//EN
VERSION:2.0
CALSCALE:GREGORIAN
METHOD:PUBLISH
X-WR-CALNAME:SINGPromos.com
X-ORIGINAL-URL:https://singpromos.com
X-WR-CALDESC:Events for SINGPromos.com
BEGIN:VEVENT
DTSTART:20200711T000000
DTEND:20200711T235900
DTSTAMP:20260422T081546
CREATED:20200709T190825
LAST-MODIFIED:20200709T190908
UID:238319@https://singpromos.com
SUMMARY:Famous Amos: Get 50% more cookies when you purchase 400 grams on Saturday, 11 July 2020
DESCRIPTION:Yes, you got that right!. For more information, visit [ https://singpromos.com/dining-restaurants-food/famous-amos-get-50-more-cookies-when-you-purchase-400-grams-on-saturday-11-july-2020-238319/ ]. 
LOCATION:
URL:https://singpromos.com/dining-restaurants-food/famous-amos-get-50-more-cookies-when-you-purchase-400-grams-on-saturday-11-july-2020-238319/
END:VEVENT
END:VCALENDAR