BEGIN:VCALENDAR
PRODID:-//SINGPromos.com//NONSGML v1.0//EN
VERSION:2.0
CALSCALE:GREGORIAN
METHOD:PUBLISH
X-WR-CALNAME:SINGPromos.com
X-ORIGINAL-URL:https://singpromos.com
X-WR-CALDESC:Events for SINGPromos.com
BEGIN:VEVENT
DTSTART:20200716T000000
DTEND:20200729T235900
DTSTAMP:20260422T184618
CREATED:20200716T032113
LAST-MODIFIED:20200716T090015
UID:238463@https://singpromos.com
SUMMARY:The Ice Cream & Cookie Co. Bubble Milk Tea Gelato is going at 2-for-$17.90 (usual $25.90) at Fairprice Xtra till 29 July 2020
DESCRIPTION:Hong Kong milk tea, with chewy brown sugar pearls.. For more information, visit [ https://singpromos.com/dining-restaurants-food/the-ice-cream-cookie-co-bubble-milk-tea-gelato-is-going-at-2-for-17-90-usual-25-90-at-fairprice-xtra-till-29-july-2020-238463/ ]. 
LOCATION:
URL:https://singpromos.com/dining-restaurants-food/the-ice-cream-cookie-co-bubble-milk-tea-gelato-is-going-at-2-for-17-90-usual-25-90-at-fairprice-xtra-till-29-july-2020-238463/
END:VEVENT
END:VCALENDAR