BEGIN:VCALENDAR
PRODID:-//SINGPromos.com//NONSGML v1.0//EN
VERSION:2.0
CALSCALE:GREGORIAN
METHOD:PUBLISH
X-WR-CALNAME:SINGPromos.com
X-ORIGINAL-URL:https://singpromos.com
X-WR-CALDESC:Events for SINGPromos.com
BEGIN:VEVENT
DTSTART:20200716T000000
DTEND:20200930T235900
DTSTAMP:20260422T082237
CREATED:20200716T115011
LAST-MODIFIED:20200721T084917
UID:238474@https://singpromos.com
SUMMARY:Popeyes: NDP special coupon deals for dine-in and takeaway valid till 30 September 2020
DESCRIPTION:Simply flash the eCoupon page from your mobile phone. For more information, visit [ https://singpromos.com/dining-restaurants-food/popeyes-ndp-special-coupon-deals-for-dine-in-and-takeaway-valid-till-30-september-2020-238474/ ]. 
LOCATION:
URL:https://singpromos.com/dining-restaurants-food/popeyes-ndp-special-coupon-deals-for-dine-in-and-takeaway-valid-till-30-september-2020-238474/
END:VEVENT
END:VCALENDAR