BEGIN:VCALENDAR
PRODID:-//SINGPromos.com//NONSGML v1.0//EN
VERSION:2.0
CALSCALE:GREGORIAN
METHOD:PUBLISH
X-WR-CALNAME:SINGPromos.com
X-ORIGINAL-URL:https://singpromos.com
X-WR-CALDESC:Events for SINGPromos.com
BEGIN:VEVENT
DTSTART:20200716T000000
DTEND:20200930T235900
DTSTAMP:20260422T082239
CREATED:20200716T142246
LAST-MODIFIED:20200716T142736
UID:238490@https://singpromos.com
SUMMARY:Swensen's: 1-for-1 Hazel Daze / Salted Gula Melaka Heaven and more NDP coupon deals valid till 30 September 2020
DESCRIPTION:Present the voucher upon ordering.. For more information, visit [ https://singpromos.com/dining-restaurants-food/swensens-1-for-1-hazel-daze-salted-gula-melaka-heaven-and-more-ndp-coupon-deals-valid-till-30-september-2020-238490/ ]. 
LOCATION:
URL:https://singpromos.com/dining-restaurants-food/swensens-1-for-1-hazel-daze-salted-gula-melaka-heaven-and-more-ndp-coupon-deals-valid-till-30-september-2020-238490/
END:VEVENT
END:VCALENDAR