BEGIN:VCALENDAR
PRODID:-//SINGPromos.com//NONSGML v1.0//EN
VERSION:2.0
CALSCALE:GREGORIAN
METHOD:PUBLISH
X-WR-CALNAME:SINGPromos.com
X-ORIGINAL-URL:https://singpromos.com
X-WR-CALDESC:Events for SINGPromos.com
BEGIN:VEVENT
DTSTART:20200716T000000
DTEND:20200831T235900
DTSTAMP:20260422T081715
CREATED:20200716T113721
LAST-MODIFIED:20200721T084924
UID:238506@https://singpromos.com
SUMMARY:Enjoy special deals at Burger King with these NDP coupon deals valid till 31 August 2020
DESCRIPTION:Simply flash the eCoupon page from your mobile phone. For more information, visit [ https://singpromos.com/dining-restaurants-food/enjoy-special-deals-at-burger-king-with-these-ndp-coupon-deals-valid-till-31-august-2020-238506/ ]. 
LOCATION:
URL:https://singpromos.com/dining-restaurants-food/enjoy-special-deals-at-burger-king-with-these-ndp-coupon-deals-valid-till-31-august-2020-238506/
END:VEVENT
END:VCALENDAR