BEGIN:VCALENDAR
PRODID:-//SINGPromos.com//NONSGML v1.0//EN
VERSION:2.0
CALSCALE:GREGORIAN
METHOD:PUBLISH
X-WR-CALNAME:SINGPromos.com
X-ORIGINAL-URL:https://singpromos.com
X-WR-CALDESC:Events for SINGPromos.com
BEGIN:VEVENT
DTSTART:20200725T000000
DTEND:20200726T235900
DTSTAMP:20260422T184630
CREATED:20200725T070239
LAST-MODIFIED:20200725T070550
UID:238756@https://singpromos.com
SUMMARY:Qoo10: Grab free $5 cart coupons (usable with min spend $30) valid till 26 July 2020
DESCRIPTION:Qoo10 is running a promotion featuring free cart coupons worth $5.. For more information, visit [ https://singpromos.com/department-stores/qoo10-grab-free-5-cart-coupons-usable-with-min-spend-30-valid-till-26-july-2020-238756/ ]. 
LOCATION:
URL:https://singpromos.com/department-stores/qoo10-grab-free-5-cart-coupons-usable-with-min-spend-30-valid-till-26-july-2020-238756/
END:VEVENT
END:VCALENDAR