BEGIN:VCALENDAR
PRODID:-//SINGPromos.com//NONSGML v1.0//EN
VERSION:2.0
CALSCALE:GREGORIAN
METHOD:PUBLISH
X-WR-CALNAME:SINGPromos.com
X-ORIGINAL-URL:https://singpromos.com
X-WR-CALDESC:Events for SINGPromos.com
BEGIN:VEVENT
DTSTART:20200806T000000
DTEND:20200812T235900
DTSTAMP:20260420T013815
CREATED:20200806T140213
LAST-MODIFIED:20200806T140658
UID:239192@https://singpromos.com
SUMMARY:NTUC Fairprice is having Buy-1-Get-1-Free offers on Lay's, Dreyer's ice cream, Colgate & more till 12 August 2020
DESCRIPTION:Celebrate National Day with Buy 1 Get 1 Free* on participating brands. For more information, visit [ https://singpromos.com/dining-restaurants-food/ntuc-fairprice-is-having-buy-1-get-1-free-offers-on-lays-dreyers-ice-cream-colgate-more-till-12-august-2020-239192/ ]. 
LOCATION:
URL:https://singpromos.com/dining-restaurants-food/ntuc-fairprice-is-having-buy-1-get-1-free-offers-on-lays-dreyers-ice-cream-colgate-more-till-12-august-2020-239192/
END:VEVENT
END:VCALENDAR