BEGIN:VCALENDAR
PRODID:-//SINGPromos.com//NONSGML v1.0//EN
VERSION:2.0
CALSCALE:GREGORIAN
METHOD:PUBLISH
X-WR-CALNAME:SINGPromos.com
X-ORIGINAL-URL:https://singpromos.com
X-WR-CALDESC:Events for SINGPromos.com
BEGIN:VEVENT
DTSTART:20200813T000000
DTEND:20201018T235900
DTSTAMP:20260420T035746
CREATED:20200819T134207
LAST-MODIFIED:20200819T134626
UID:239433@https://singpromos.com
SUMMARY:LIV ACTIV's Jacket Donation Program: Donate unwanted warm jackets and coats and get a 50% gift voucher till 18 October 2020
DESCRIPTION:LIV ACTIV will offer 50% gift voucher to the donor. For more information, visit [ https://singpromos.com/fashion-accessories/liv-activs-jacket-donation-program-donate-unwanted-warm-jackets-and-coats-and-get-a-50-gift-voucher-till-18-october-2020-239433/ ]. 
LOCATION:
URL:https://singpromos.com/fashion-accessories/liv-activs-jacket-donation-program-donate-unwanted-warm-jackets-and-coats-and-get-a-50-gift-voucher-till-18-october-2020-239433/
END:VEVENT
END:VCALENDAR