BEGIN:VCALENDAR
PRODID:-//SINGPromos.com//NONSGML v1.0//EN
VERSION:2.0
CALSCALE:GREGORIAN
METHOD:PUBLISH
X-WR-CALNAME:SINGPromos.com
X-ORIGINAL-URL:https://singpromos.com
X-WR-CALDESC:Events for SINGPromos.com
BEGIN:VEVENT
DTSTART:20200827T000000
DTEND:20200827T235900
DTSTAMP:20260420T024841
CREATED:20200826T204359
LAST-MODIFIED:20200826T204359
UID:239569@https://singpromos.com
SUMMARY:llaollao extends 1-for-1 Medium Tub promotion to four outlets on 27 August 2020
DESCRIPTION:Due to an overwhelming response, llaollao will extend the promotion. For more information, visit [ https://singpromos.com/dining-restaurants-food/llaollao-extends-1-for-1-medium-tub-promotion-to-four-outlets-on-27-august-2020-239569/ ]. 
LOCATION:
URL:https://singpromos.com/dining-restaurants-food/llaollao-extends-1-for-1-medium-tub-promotion-to-four-outlets-on-27-august-2020-239569/
END:VEVENT
END:VCALENDAR