BEGIN:VCALENDAR
PRODID:-//SINGPromos.com//NONSGML v1.0//EN
VERSION:2.0
CALSCALE:GREGORIAN
METHOD:PUBLISH
X-WR-CALNAME:SINGPromos.com
X-ORIGINAL-URL:https://singpromos.com
X-WR-CALDESC:Events for SINGPromos.com
BEGIN:VEVENT
DTSTART:20120113T000000
DTEND:20120115T235900
DTSTAMP:20260422T082152
CREATED:20120113T223314
LAST-MODIFIED:20120113T223314
UID:23962@https://singpromos.com
SUMMARY:Fashion Fast Forward 40% Off 2nd Piece 13 - 15 Jan 2012
DESCRIPTION:Topshop, Topman, Dorothy Perkins, Miss Selfridge and Ben Sherman are now having their New Year Sale from 13 January to 15 January 2012. Enjoy the 2nd piece at 40% off during this promotion period. . For more information, visit [ https://singpromos.com/fashion-accessories/fashion-fast-forward-40-off-2nd-piece-13-15-jan-2012-23962/ ]. 
LOCATION:
URL:https://singpromos.com/fashion-accessories/fashion-fast-forward-40-off-2nd-piece-13-15-jan-2012-23962/
END:VEVENT
END:VCALENDAR