BEGIN:VCALENDAR
PRODID:-//SINGPromos.com//NONSGML v1.0//EN
VERSION:2.0
CALSCALE:GREGORIAN
METHOD:PUBLISH
X-WR-CALNAME:SINGPromos.com
X-ORIGINAL-URL:https://singpromos.com
X-WR-CALDESC:Events for SINGPromos.com
BEGIN:VEVENT
DTSTART:20200907T000000
DTEND:20200907T235900
DTSTAMP:20260422T082302
CREATED:20200907T094857
LAST-MODIFIED:20200907T094857
UID:239865@https://singpromos.com
SUMMARY:Qoo10: Grab free $10 cart coupons (usable with a min spend of $80) till 7 Sep 2020
DESCRIPTION:Qoo10 is running a Coupon promotion featuring free cart coupons worth $10!. For more information, visit [ https://singpromos.com/department-stores/qoo10-grab-free-10-cart-coupons-usable-with-a-min-spend-of-80-till-7-sep-2020-239865/ ]. 
LOCATION:
URL:https://singpromos.com/department-stores/qoo10-grab-free-10-cart-coupons-usable-with-a-min-spend-of-80-till-7-sep-2020-239865/
END:VEVENT
END:VCALENDAR