BEGIN:VCALENDAR
PRODID:-//SINGPromos.com//NONSGML v1.0//EN
VERSION:2.0
CALSCALE:GREGORIAN
METHOD:PUBLISH
X-WR-CALNAME:SINGPromos.com
X-ORIGINAL-URL:https://singpromos.com
X-WR-CALDESC:Events for SINGPromos.com
BEGIN:VEVENT
DTSTART:20200909T000000
DTEND:20200909T235900
DTSTAMP:20260422T082308
CREATED:20200909T105333
LAST-MODIFIED:20200909T105419
UID:239929@https://singpromos.com
SUMMARY:Yolé: Grab two medium cups for just $9.90 at almost all outlets on 9 September 2020
DESCRIPTION:Enjoy 2 Medium cups for just $9.90!. For more information, visit [ https://singpromos.com/dining-restaurants-food/yole-grab-two-medium-cups-for-just-9-90-at-almost-all-outlets-on-9-september-2020-239929/ ]. 
LOCATION:
URL:https://singpromos.com/dining-restaurants-food/yole-grab-two-medium-cups-for-just-9-90-at-almost-all-outlets-on-9-september-2020-239929/
END:VEVENT
END:VCALENDAR