BEGIN:VCALENDAR
PRODID:-//SINGPromos.com//NONSGML v1.0//EN
VERSION:2.0
CALSCALE:GREGORIAN
METHOD:PUBLISH
X-WR-CALNAME:SINGPromos.com
X-ORIGINAL-URL:https://singpromos.com
X-WR-CALDESC:Events for SINGPromos.com
BEGIN:VEVENT
DTSTART:20200910T000000
DTEND:20201007T235900
DTSTAMP:20260422T082317
CREATED:20200910T145814
LAST-MODIFIED:20200916T221547
UID:239951@https://singpromos.com
SUMMARY:McDonald's will be offering 1-for-1 deals and more from 10 Sep - 7 Oct 2020
DESCRIPTION:You can also win great deals and new prizes on the McDonald's app. For more information, visit [ https://singpromos.com/dining-restaurants-food/mcdonalds-will-be-offering-1-for-1-deals-and-more-from-10-sep-7-oct-2020-239951/ ]. 
LOCATION:
URL:https://singpromos.com/dining-restaurants-food/mcdonalds-will-be-offering-1-for-1-deals-and-more-from-10-sep-7-oct-2020-239951/
END:VEVENT
END:VCALENDAR