BEGIN:VCALENDAR
PRODID:-//SINGPromos.com//NONSGML v1.0//EN
VERSION:2.0
CALSCALE:GREGORIAN
METHOD:PUBLISH
X-WR-CALNAME:SINGPromos.com
X-ORIGINAL-URL:https://singpromos.com
X-WR-CALDESC:Events for SINGPromos.com
BEGIN:VEVENT
DTSTART:20200910T000000
DTEND:20201004T235900
DTSTAMP:20260422T082307
CREATED:20200911T171138
LAST-MODIFIED:20200911T171314
UID:239971@https://singpromos.com
SUMMARY:McDonald's: 1-for-1 Melon Waffle Cone at Dessert Kiosks till 4 October 2020
DESCRIPTION:Have fun the cool way with the creamy, sweet melon fruity taste of the Melon Waffle Cone!. For more information, visit [ https://singpromos.com/dining-restaurants-food/mcdonalds-1-for-1-melon-waffle-cone-at-dessert-kiosks-till-4-october-2020-239971/ ]. 
LOCATION:
URL:https://singpromos.com/dining-restaurants-food/mcdonalds-1-for-1-melon-waffle-cone-at-dessert-kiosks-till-4-october-2020-239971/
END:VEVENT
END:VCALENDAR