BEGIN:VCALENDAR
PRODID:-//SINGPromos.com//NONSGML v1.0//EN
VERSION:2.0
CALSCALE:GREGORIAN
METHOD:PUBLISH
X-WR-CALNAME:SINGPromos.com
X-ORIGINAL-URL:https://singpromos.com
X-WR-CALDESC:Events for SINGPromos.com
BEGIN:VEVENT
DTSTART:20200914T000000
DTEND:20200916T235900
DTSTAMP:20260422T082303
CREATED:20200911T144406
LAST-MODIFIED:20200915T102725
UID:239993@https://singpromos.com
SUMMARY:McDonald's will be offering 1-for-1 Big Breakfast® from 14 - 16 September 2020
DESCRIPTION:1-for-1 Big Breakfast!. For more information, visit [ https://singpromos.com/dining-restaurants-food/mcdonalds-will-be-offering-1-for-1-big-breakfast-from-14-16-september-2020-239993/ ]. 
LOCATION:
URL:https://singpromos.com/dining-restaurants-food/mcdonalds-will-be-offering-1-for-1-big-breakfast-from-14-16-september-2020-239993/
END:VEVENT
END:VCALENDAR