BEGIN:VCALENDAR
PRODID:-//SINGPromos.com//NONSGML v1.0//EN
VERSION:2.0
CALSCALE:GREGORIAN
METHOD:PUBLISH
X-WR-CALNAME:SINGPromos.com
X-ORIGINAL-URL:https://singpromos.com
X-WR-CALDESC:Events for SINGPromos.com
BEGIN:VEVENT
DTSTART:20200913T000000
DTEND:20200930T235900
DTSTAMP:20260422T082300
CREATED:20200913T092458
LAST-MODIFIED:20200913T103250
UID:240004@https://singpromos.com
SUMMARY:KFC releases new Sept 2020 dine-in, takeaway and delivery coupons that lets you save up to 68% till 30 September 2020
DESCRIPTION:KFC has prepared a brand new set of coupons for you!. For more information, visit [ https://singpromos.com/dining-restaurants-food/kfc-releases-new-sept-2020-dine-in-takeaway-and-delivery-coupons-that-lets-you-save-up-to-68-till-30-september-2020-240004/ ]. 
LOCATION:
URL:https://singpromos.com/dining-restaurants-food/kfc-releases-new-sept-2020-dine-in-takeaway-and-delivery-coupons-that-lets-you-save-up-to-68-till-30-september-2020-240004/
END:VEVENT
END:VCALENDAR