BEGIN:VCALENDAR
PRODID:-//SINGPromos.com//NONSGML v1.0//EN
VERSION:2.0
CALSCALE:GREGORIAN
METHOD:PUBLISH
X-WR-CALNAME:SINGPromos.com
X-ORIGINAL-URL:https://singpromos.com
X-WR-CALDESC:Events for SINGPromos.com
BEGIN:VEVENT
DTSTART:20201001T000000
DTEND:20201004T235900
DTSTAMP:20260422T082231
CREATED:20201001T164633
LAST-MODIFIED:20201001T164646
UID:240401@https://singpromos.com
SUMMARY:Paris Baguette: Enjoy 1-for-1 on all coffee-based drink at four outlets till 4 October 2020
DESCRIPTION:Rejoice Coffee lovers!. For more information, visit [ https://singpromos.com/dining-restaurants-food/paris-baguette-enjoy-1-for-1-on-all-coffee-based-drink-at-four-outlets-till-4-october-2020-240401/ ]. 
LOCATION:
URL:https://singpromos.com/dining-restaurants-food/paris-baguette-enjoy-1-for-1-on-all-coffee-based-drink-at-four-outlets-till-4-october-2020-240401/
END:VEVENT
END:VCALENDAR