BEGIN:VCALENDAR
PRODID:-//SINGPromos.com//NONSGML v1.0//EN
VERSION:2.0
CALSCALE:GREGORIAN
METHOD:PUBLISH
X-WR-CALNAME:SINGPromos.com
X-ORIGINAL-URL:https://singpromos.com
X-WR-CALDESC:Events for SINGPromos.com
BEGIN:VEVENT
DTSTART:20201020T000000
DTEND:20201119T235900
DTSTAMP:20260422T082233
CREATED:20201020T145530
LAST-MODIFIED:20201020T150031
UID:240932@https://singpromos.com
SUMMARY:Toast Box: $1 for a small hot Kopi/Teh (U.P: $1.90) till 19 November 2020
DESCRIPTION:$1 for a small hot Kopi/Teh (U.P: $1.90). For more information, visit [ https://singpromos.com/dining-restaurants-food/toast-box-1-for-a-small-hot-kopi-teh-u-p-1-90-till-19-november-2020-240932/ ]. 
LOCATION:
URL:https://singpromos.com/dining-restaurants-food/toast-box-1-for-a-small-hot-kopi-teh-u-p-1-90-till-19-november-2020-240932/
END:VEVENT
END:VCALENDAR