BEGIN:VCALENDAR
PRODID:-//SINGPromos.com//NONSGML v1.0//EN
VERSION:2.0
CALSCALE:GREGORIAN
METHOD:PUBLISH
X-WR-CALNAME:SINGPromos.com
X-ORIGINAL-URL:https://singpromos.com
X-WR-CALDESC:Events for SINGPromos.com
BEGIN:VEVENT
DTSTART:20201023T000000
DTEND:20201108T235900
DTSTAMP:20260422T080643
CREATED:20201030T065557
LAST-MODIFIED:20201102T165928
UID:241129@https://singpromos.com
SUMMARY:Robinsons: $20 off with a min spend of $150 & $30 off with min spend of $200 till 8 Nov 2020
DESCRIPTION:Time for a Shopping Spree!. For more information, visit [ https://singpromos.com/department-stores/robinsons-20-off-with-a-min-spend-of-150-30-off-with-min-spend-of-200-till-8-nov-2020-241129/ ]. 
LOCATION:
URL:https://singpromos.com/department-stores/robinsons-20-off-with-a-min-spend-of-150-30-off-with-min-spend-of-200-till-8-nov-2020-241129/
END:VEVENT
END:VCALENDAR