BEGIN:VCALENDAR
PRODID:-//SINGPromos.com//NONSGML v1.0//EN
VERSION:2.0
CALSCALE:GREGORIAN
METHOD:PUBLISH
X-WR-CALNAME:SINGPromos.com
X-ORIGINAL-URL:https://singpromos.com
X-WR-CALDESC:Events for SINGPromos.com
BEGIN:VEVENT
DTSTART:20201111T000000
DTEND:20201111T235900
DTSTAMP:20260424T025723
CREATED:20201111T114515
LAST-MODIFIED:20201111T114515
UID:241573@https://singpromos.com
SUMMARY:BreadTalk: 1-for-1 Soy Milk on 11 Nov 2020
DESCRIPTION:Enjoy 1-FOR-1 on BreadTalk's Soy Milk!. For more information, visit [ https://singpromos.com/dining-restaurants-food/breadtalk-1-for-1-soy-milk-on-11-nov-2020-241573/ ]. 
LOCATION:
URL:https://singpromos.com/dining-restaurants-food/breadtalk-1-for-1-soy-milk-on-11-nov-2020-241573/
END:VEVENT
END:VCALENDAR