BEGIN:VCALENDAR
PRODID:-//SINGPromos.com//NONSGML v1.0//EN
VERSION:2.0
CALSCALE:GREGORIAN
METHOD:PUBLISH
X-WR-CALNAME:SINGPromos.com
X-ORIGINAL-URL:https://singpromos.com
X-WR-CALDESC:Events for SINGPromos.com
BEGIN:VEVENT
DTSTART:20201001T000000
DTEND:20201130T235900
DTSTAMP:20260422T082304
CREATED:20201115T183755
LAST-MODIFIED:20201115T191229
UID:241677@https://singpromos.com
SUMMARY:SUKI-YA: 1-for-1 Shabu Shabu Lunch Buffet (Mon-Thur) with Maybank cards till 30 Nov 2020
DESCRIPTION:Enjoy 1-for-1 Shabu Shabu Lunch Buffet when you pay with a Maybank card. For more information, visit [ https://singpromos.com/dining-restaurants-food/suki-ya-1-for-1-shabu-shabu-lunch-buffet-mon-thur-with-maybank-cards-till-30-nov-2020-241677/ ]. 
LOCATION:
URL:https://singpromos.com/dining-restaurants-food/suki-ya-1-for-1-shabu-shabu-lunch-buffet-mon-thur-with-maybank-cards-till-30-nov-2020-241677/
END:VEVENT
END:VCALENDAR