BEGIN:VCALENDAR
PRODID:-//SINGPromos.com//NONSGML v1.0//EN
VERSION:2.0
CALSCALE:GREGORIAN
METHOD:PUBLISH
X-WR-CALNAME:SINGPromos.com
X-ORIGINAL-URL:https://singpromos.com
X-WR-CALDESC:Events for SINGPromos.com
BEGIN:VEVENT
DTSTART:20201120T000000
DTEND:20201203T235900
DTSTAMP:20260422T040151
CREATED:20201120T014150
LAST-MODIFIED:20201117T165408
UID:241726@https://singpromos.com
SUMMARY:Norton @ Black Friday: Save on AntiVirus Plus, Norton 360 Standard, and Norton 360 Deluxe from 20 Nov - 3 Dec 2020
DESCRIPTION:This Black Friday, enjoy Price Slash on Norton AntiVirus Plus, Norton 360 Standard, and Norton 360 Deluxe. For more information, visit [ https://singpromos.com/computers-pc/norton-black-friday-save-on-antivirus-plus-norton-360-standard-and-norton-360-deluxe-from-20-nov-3-dec-2020-241726/ ]. 
LOCATION:
URL:https://singpromos.com/computers-pc/norton-black-friday-save-on-antivirus-plus-norton-360-standard-and-norton-360-deluxe-from-20-nov-3-dec-2020-241726/
END:VEVENT
END:VCALENDAR