BEGIN:VCALENDAR
PRODID:-//SINGPromos.com//NONSGML v1.0//EN
VERSION:2.0
CALSCALE:GREGORIAN
METHOD:PUBLISH
X-WR-CALNAME:SINGPromos.com
X-ORIGINAL-URL:https://singpromos.com
X-WR-CALDESC:Events for SINGPromos.com
BEGIN:VEVENT
DTSTART:20201123T000000
DTEND:20201126T235900
DTSTAMP:20260419T233345
CREATED:20201122T122326
LAST-MODIFIED:20201122T122326
UID:241863@https://singpromos.com
SUMMARY:$10 nett for 2 mains with Free Flow SK Mango Pomelo Sago at Hong Kong Sheng Kee Dessert (23 - 26 Nov 2020)
DESCRIPTION:Enjoy any 2 of the newly launched rice or noodle dishes (listed below) for only $10. For more information, visit [ https://singpromos.com/dining-restaurants-food/10-nett-for-2-mains-with-free-flow-sk-mango-pomelo-sago-at-hong-kong-sheng-kee-dessert-23-26-nov-2020-241863/ ]. 
LOCATION:
URL:https://singpromos.com/dining-restaurants-food/10-nett-for-2-mains-with-free-flow-sk-mango-pomelo-sago-at-hong-kong-sheng-kee-dessert-23-26-nov-2020-241863/
END:VEVENT
END:VCALENDAR