BEGIN:VCALENDAR
PRODID:-//SINGPromos.com//NONSGML v1.0//EN
VERSION:2.0
CALSCALE:GREGORIAN
METHOD:PUBLISH
X-WR-CALNAME:SINGPromos.com
X-ORIGINAL-URL:https://singpromos.com
X-WR-CALDESC:Events for SINGPromos.com
BEGIN:VEVENT
DTSTART:20201210T000000
DTEND:20201211T235900
DTSTAMP:20260422T044744
CREATED:20201210T034504
LAST-MODIFIED:20201209T204541
UID:242459@https://singpromos.com
SUMMARY:OG: 20% OFF most brands' regular-priced items storewide at all outlets till 11 Dec 2020
DESCRIPTION:OG is throwing a 20%* off regular-priced items storewide at all outlets for a limited time.. For more information, visit [ https://singpromos.com/department-stores/og-20-off-most-brands-regular-priced-items-storewide-at-all-outlets-till-11-dec-2020-242459/ ]. 
LOCATION:
URL:https://singpromos.com/department-stores/og-20-off-most-brands-regular-priced-items-storewide-at-all-outlets-till-11-dec-2020-242459/
END:VEVENT
END:VCALENDAR