BEGIN:VCALENDAR
PRODID:-//SINGPromos.com//NONSGML v1.0//EN
VERSION:2.0
CALSCALE:GREGORIAN
METHOD:PUBLISH
X-WR-CALNAME:SINGPromos.com
X-ORIGINAL-URL:https://singpromos.com
X-WR-CALDESC:Events for SINGPromos.com
BEGIN:VEVENT
DTSTART:20210102T000000
DTEND:20210131T235900
DTSTAMP:20260420T210740
CREATED:20201231T140802
LAST-MODIFIED:20201231T140802
UID:242887@https://singpromos.com
SUMMARY:Zinus Pre-CNY Sale - Massive Savings! Mattress from $99! (2 - 31 Jan 2021)
DESCRIPTION:Come down and check it out yourself! Whilst stocks last!. For more information, visit [ https://singpromos.com/furniture/zinus-pre-cny-sale-massive-savings-mattress-from-99-2-31-jan-2021-242887/ ]. 
LOCATION:536204
URL:https://singpromos.com/furniture/zinus-pre-cny-sale-massive-savings-mattress-from-99-2-31-jan-2021-242887/
END:VEVENT
END:VCALENDAR