BEGIN:VCALENDAR
PRODID:-//SINGPromos.com//NONSGML v1.0//EN
VERSION:2.0
CALSCALE:GREGORIAN
METHOD:PUBLISH
X-WR-CALNAME:SINGPromos.com
X-ORIGINAL-URL:https://singpromos.com
X-WR-CALDESC:Events for SINGPromos.com
BEGIN:VEVENT
DTSTART:20210125T000000
DTEND:20210128T235900
DTSTAMP:20260422T060854
CREATED:20210123T171823
LAST-MODIFIED:20210123T191436
UID:243511@https://singpromos.com
SUMMARY:Starbucks: Enjoy a 1-for-1 treat on selected beverages from 25 - 28 Jan when you pay with your Starbucks Card
DESCRIPTION:Cheers to an exclusive 1-for-1 treat. For more information, visit [ https://singpromos.com/dining-restaurants-food/starbucks-enjoy-a-1-for-1-treat-on-selected-beverages-from-25-28-jan-when-you-pay-with-your-starbucks-card-243511/ ]. 
LOCATION:
URL:https://singpromos.com/dining-restaurants-food/starbucks-enjoy-a-1-for-1-treat-on-selected-beverages-from-25-28-jan-when-you-pay-with-your-starbucks-card-243511/
END:VEVENT
END:VCALENDAR