BEGIN:VCALENDAR
PRODID:-//SINGPromos.com//NONSGML v1.0//EN
VERSION:2.0
CALSCALE:GREGORIAN
METHOD:PUBLISH
X-WR-CALNAME:SINGPromos.com
X-ORIGINAL-URL:https://singpromos.com
X-WR-CALDESC:Events for SINGPromos.com
BEGIN:VEVENT
DTSTART:20210128T000000
DTEND:20210207T235900
DTSTAMP:20260422T040152
CREATED:20210127T184201
LAST-MODIFIED:20210127T184912
UID:243639@https://singpromos.com
SUMMARY:Norton CNY Promo: Save up to 47% off on AntiVirus Plus, Norton 360 & more from 28 Jan - 7 Feb 2021
DESCRIPTION:Enjoy Price Slash on Norton AntiVirus Plus, Norton 360 and more. For more information, visit [ https://singpromos.com/computers-pc/norton-cny-promo-save-up-to-47-off-on-antivirus-plus-norton-360-more-from-28-jan-7-feb-2021-243639/ ]. 
LOCATION:
URL:https://singpromos.com/computers-pc/norton-cny-promo-save-up-to-47-off-on-antivirus-plus-norton-360-more-from-28-jan-7-feb-2021-243639/
END:VEVENT
END:VCALENDAR