BEGIN:VCALENDAR
PRODID:-//SINGPromos.com//NONSGML v1.0//EN
VERSION:2.0
CALSCALE:GREGORIAN
METHOD:PUBLISH
X-WR-CALNAME:SINGPromos.com
X-ORIGINAL-URL:https://singpromos.com
X-WR-CALDESC:Events for SINGPromos.com
BEGIN:VEVENT
DTSTART:20120118T000000
DTEND:20120119T235900
DTSTAMP:20260420T061851
CREATED:20120118T230617
LAST-MODIFIED:20120118T230617
UID:24375@https://singpromos.com
SUMMARY:Carrefour New Moon Abalone Chile Promotion 18 - 19 Jan 2012
DESCRIPTION:Carrefour is having a promotion on the New Moon Abalone Chile can at only $29.90 (usual $42.80). In addition, get a free New Moon Rice 500g with purchase.. For more information, visit [ https://singpromos.com/dining-restaurants-food/carrefour-new-moon-abalone-chile-promotion-18-19-jan-2012-24375/ ]. 
LOCATION:
URL:https://singpromos.com/dining-restaurants-food/carrefour-new-moon-abalone-chile-promotion-18-19-jan-2012-24375/
END:VEVENT
END:VCALENDAR