BEGIN:VCALENDAR
PRODID:-//SINGPromos.com//NONSGML v1.0//EN
VERSION:2.0
CALSCALE:GREGORIAN
METHOD:PUBLISH
X-WR-CALNAME:SINGPromos.com
X-ORIGINAL-URL:https://singpromos.com
X-WR-CALDESC:Events for SINGPromos.com
BEGIN:VEVENT
DTSTART:20210201T000000
DTEND:20210228T235900
DTSTAMP:20260420T210740
CREATED:20210202T155706
LAST-MODIFIED:20210202T155706
UID:243831@https://singpromos.com
SUMMARY:Zinus CNY Huat Huat Sale! Up to 70% Off! (1st to 28th Feb 2021)
DESCRIPTION:Come down and check out yourself! Whilst stocks last!. For more information, visit [ https://singpromos.com/furniture/zinus-cny-huat-huat-sale-up-to-70-off-1st-to-28th-feb-2021-243831/ ]. 
LOCATION:16 New Industrial Road, 536204
URL:https://singpromos.com/furniture/zinus-cny-huat-huat-sale-up-to-70-off-1st-to-28th-feb-2021-243831/
END:VEVENT
END:VCALENDAR