BEGIN:VCALENDAR
PRODID:-//SINGPromos.com//NONSGML v1.0//EN
VERSION:2.0
CALSCALE:GREGORIAN
METHOD:PUBLISH
X-WR-CALNAME:SINGPromos.com
X-ORIGINAL-URL:https://singpromos.com
X-WR-CALDESC:Events for SINGPromos.com
BEGIN:VEVENT
DTSTART:20210223T000000
DTEND:20210225T235900
DTSTAMP:20260419T233346
CREATED:20210225T105647
LAST-MODIFIED:20210224T220421
UID:244314@https://singpromos.com
SUMMARY:Hong Kong Sheng Kee Dessert is offering 1 FOR 1 deal on Signature Mains till 25 Feb 2021
DESCRIPTION:It's the best time to satisfy your #HongShengKeeDessert cravings!. For more information, visit [ https://singpromos.com/dining-restaurants-food/hong-kong-sheng-kee-dessert-is-offering-1-for-1-deal-on-signature-mains-till-25-feb-2021-244314/ ]. 
LOCATION:
URL:https://singpromos.com/dining-restaurants-food/hong-kong-sheng-kee-dessert-is-offering-1-for-1-deal-on-signature-mains-till-25-feb-2021-244314/
END:VEVENT
END:VCALENDAR