BEGIN:VCALENDAR
PRODID:-//SINGPromos.com//NONSGML v1.0//EN
VERSION:2.0
CALSCALE:GREGORIAN
METHOD:PUBLISH
X-WR-CALNAME:SINGPromos.com
X-ORIGINAL-URL:https://singpromos.com
X-WR-CALDESC:Events for SINGPromos.com
BEGIN:VEVENT
DTSTART:20210301T000000
DTEND:20210326T235900
DTSTAMP:20260422T062953
CREATED:20210301T191340
LAST-MODIFIED:20210301T191340
UID:244376@https://singpromos.com
SUMMARY:Singapore Savings Bond (SSB): Earn up to 1.15% p.a. in the latest bond - Apply by 26 March 2021
DESCRIPTION:Earn returns with a minimum sum of $500 in the latest Singapore Savings Bond. For more information, visit [ https://singpromos.com/banks-credit-cards/singapore-savings-bond-ssb-earn-up-to-1-15-p-a-in-the-latest-bond-apply-by-26-march-2021-244376/ ]. 
LOCATION:
URL:https://singpromos.com/banks-credit-cards/singapore-savings-bond-ssb-earn-up-to-1-15-p-a-in-the-latest-bond-apply-by-26-march-2021-244376/
END:VEVENT
END:VCALENDAR