BEGIN:VCALENDAR
PRODID:-//SINGPromos.com//NONSGML v1.0//EN
VERSION:2.0
CALSCALE:GREGORIAN
METHOD:PUBLISH
X-WR-CALNAME:SINGPromos.com
X-ORIGINAL-URL:https://singpromos.com
X-WR-CALDESC:Events for SINGPromos.com
BEGIN:VEVENT
DTSTART:20210322T000000
DTEND:20210326T235900
DTSTAMP:20260419T214853
CREATED:20210321T172002
LAST-MODIFIED:20210318T043005
UID:244724@https://singpromos.com
SUMMARY:Hong Kong Sheng Kee Dessert is offering 1-for-1 Mains from 22 - 26 March 2021, 3pm to 5pm
DESCRIPTION:You are in for a treat!. For more information, visit [ https://singpromos.com/dining-restaurants-food/hong-kong-sheng-kee-dessert-is-offering-1-for-1-mains-from-22-26-march-2021-3pm-to-5pm-244724/ ]. 
LOCATION:
URL:https://singpromos.com/dining-restaurants-food/hong-kong-sheng-kee-dessert-is-offering-1-for-1-mains-from-22-26-march-2021-3pm-to-5pm-244724/
END:VEVENT
END:VCALENDAR