BEGIN:VCALENDAR
PRODID:-//SINGPromos.com//NONSGML v1.0//EN
VERSION:2.0
CALSCALE:GREGORIAN
METHOD:PUBLISH
X-WR-CALNAME:SINGPromos.com
X-ORIGINAL-URL:https://singpromos.com
X-WR-CALDESC:Events for SINGPromos.com
BEGIN:VEVENT
DTSTART:20210401T000000
DTEND:20210407T235900
DTSTAMP:20260420T061924
CREATED:20210401T145713
LAST-MODIFIED:20210401T145744
UID:245079@https://singpromos.com
SUMMARY:Ben & Jerry's ice cream pints are going at 2-for-$19.90 (U.P. $27.80) at Giant till 7 Apr 2021
DESCRIPTION:Time to stock up on Ben & Jerry's ice cream.. For more information, visit [ https://singpromos.com/dining-restaurants-food/ben-jerrys-ice-cream-pints-are-going-at-2-for-19-90-u-p-27-80-at-giant-till-7-apr-2021-245079/ ]. 
LOCATION:
URL:https://singpromos.com/dining-restaurants-food/ben-jerrys-ice-cream-pints-are-going-at-2-for-19-90-u-p-27-80-at-giant-till-7-apr-2021-245079/
END:VEVENT
END:VCALENDAR