BEGIN:VCALENDAR
PRODID:-//SINGPromos.com//NONSGML v1.0//EN
VERSION:2.0
CALSCALE:GREGORIAN
METHOD:PUBLISH
X-WR-CALNAME:SINGPromos.com
X-ORIGINAL-URL:https://singpromos.com
X-WR-CALDESC:Events for SINGPromos.com
BEGIN:VEVENT
DTSTART:20210401T000000
DTEND:20210414T235900
DTSTAMP:20260422T212732
CREATED:20210401T172804
LAST-MODIFIED:20210401T172817
UID:245095@https://singpromos.com
SUMMARY:Philips Small Appliances Offers at Fairprice Xtra till 14 April 2021
DESCRIPTION:Upgrade your comforts. For more information, visit [ https://singpromos.com/home-appliances/philips-small-appliances-offers-at-fairprice-xtra-till-14-april-2021-245095/ ]. 
LOCATION:
URL:https://singpromos.com/home-appliances/philips-small-appliances-offers-at-fairprice-xtra-till-14-april-2021-245095/
END:VEVENT
END:VCALENDAR