BEGIN:VCALENDAR
PRODID:-//SINGPromos.com//NONSGML v1.0//EN
VERSION:2.0
CALSCALE:GREGORIAN
METHOD:PUBLISH
X-WR-CALNAME:SINGPromos.com
X-ORIGINAL-URL:https://singpromos.com
X-WR-CALDESC:Events for SINGPromos.com
BEGIN:VEVENT
DTSTART:20210507T000000
DTEND:20210630T235900
DTSTAMP:20260422T212626
CREATED:20210507T112320
LAST-MODIFIED:20210507T112332
UID:245886@https://singpromos.com
SUMMARY:Fairprice is offering pink Philips small appliances at up to 57% off with min $25 spend till 30 June 2021
DESCRIPTION:Wrap up the perfect gift!. For more information, visit [ https://singpromos.com/home-appliances/fairprice-is-offering-pink-philips-small-appliances-at-up-to-57-off-with-min-25-spend-till-30-june-2021-245886/ ]. 
LOCATION:
URL:https://singpromos.com/home-appliances/fairprice-is-offering-pink-philips-small-appliances-at-up-to-57-off-with-min-25-spend-till-30-june-2021-245886/
END:VEVENT
END:VCALENDAR